BEGIN:VCALENDAR
VERSION:2.0
PRODID:-//eventon.com NONSGML v1.0//EN
CALSCALE:GREGORIAN
METHOD:PUBLISH
BEGIN:VEVENT
UID:69e4e44690b49
DTSTAMP:20260419T141846Z
DTSTART:20260428T150000Z
DTEND:20260503T130000Z
LOCATION:Casa de Espiritualidad San Juan de la Cruz C/ Carmen 13; 23400 Úbeda (Jaén)
SUMMARY:Retiro Zen Andalucía
DESCRIPTION:Sesshim escuela Sanbo-Kyodan\,  Kamakura (Japón) Actividad res
 ervada al grupo organizador Recepción de participantes a partir de las 17 
 horas del día 28 de abril\nhttps://www.sanjuandelacruzubeda.com/events/ret
 iro-zen-andalucia/
URL:https://www.sanjuandelacruzubeda.com/events/retiro-zen-andalucia/
END:VEVENT
END:VCALENDAR