BEGIN:VCALENDAR
VERSION:2.0
PRODID:-//eventon.com NONSGML v1.0//EN
CALSCALE:GREGORIAN
METHOD:PUBLISH
BEGIN:VEVENT
UID:69e4e3eaabd82
DTSTAMP:20260419T141714Z
DTSTART:20261205T093000Z
DTEND:20261205T193000Z
LOCATION:Casa de Espiritualidad San Juan de la Cruz C/ Carmen 13; 23400 Úbeda (Jaén)
SUMMARY:Retiro Úbeda
DESCRIPTION:Tema: EL ADVIENTO Y CRISTO EN LA EXPERIENCIA Y LAS ENSEÑANZAS 
 DE SAN JUAN DE LA CRUZ Mes a mes iremos ahondando en la relación con el Se
 ñor y la contemplación de sus misterios\,  con ayuda del ejemplo y los te
 xtos de nuestro santo durante este Año Jubilar en su[..]\nhttps://www.sanj
 uandelacruzubeda.com/events/retiro-ubeda-10/
URL:https://www.sanjuandelacruzubeda.com/events/retiro-ubeda-10/
END:VEVENT
END:VCALENDAR