BEGIN:VCALENDAR
VERSION:2.0
PRODID:-//eventon.com NONSGML v1.0//EN
CALSCALE:GREGORIAN
METHOD:PUBLISH
BEGIN:VEVENT
UID:69e4e23e5fe0a
DTSTAMP:20260419T141006Z
DTSTART:20261106T163000Z
DTEND:20261106T190000Z
LOCATION:Iglesia de &quot;La Concepción&quot;\,  Carmelitas Descalzos Calle Concepción 1; 23440 Baeza (Jaén)
SUMMARY:Retiro Baeza
DESCRIPTION:Tema: ficha 8 de San Juan de la Cruz: www.new.carmelitaniscalzi
 .com/es/categoria_documenti/lectura-y-reflexion/ Horario y dinámica 17:30 
 Charla y puntos de meditación 18:15 Exposición del Santísimo y tiempo pa
 ra la oración personal 19:00 Rezo del santo rosario 19:30 Celebración de 
 la Eucaristía Acompañan los carmelitas descalzos: Fray Francisco Víctor 
 López Fernández y Fray[..]\nhttps://www.sanjuandelacruzubeda.com/events/r
 etiro-baeza-9/
URL:https://www.sanjuandelacruzubeda.com/events/retiro-baeza-9/
END:VEVENT
END:VCALENDAR