BEGIN:VCALENDAR
VERSION:2.0
PRODID:-//eventon.com NONSGML v1.0//EN
CALSCALE:GREGORIAN
METHOD:PUBLISH
BEGIN:VEVENT
UID:69e4e3ed8bf78
DTSTAMP:20260419T141717Z
DTSTART:20260612T160000Z
DTEND:20260614T130000Z
LOCATION:Casa de Espiritualidad San Juan de la Cruz C/ Carmen 13; 23400 Úbeda (Jaén)
SUMMARY:La llamada del corazón: el corazón colmado
DESCRIPTION:Ciclo o espacio general: El despertar de la crisálida Experien
 cia en régimen de silencio para hacer posible el encuentro con el Ser prof
 undo que somos y facilitar el crecimiento de la conciencia de Presencia en 
 cada acto cotidiano. Consta de meditaciones silenciosas\,  paseos meditativ
 os\,  ejercicios corporales que ayudan al silenciamiento[..]\nhttps://www.s
 anjuandelacruzubeda.com/events/la-llamada-del-corazon-el-corazon-colmado/
URL:https://www.sanjuandelacruzubeda.com/events/la-llamada-del-corazon-el-corazon-colmado/
END:VEVENT
END:VCALENDAR