BEGIN:VCALENDAR
VERSION:2.0
PRODID:-//eventon.com NONSGML v1.0//EN
CALSCALE:GREGORIAN
METHOD:PUBLISH
BEGIN:VEVENT
UID:69e4c7a5e4acd
DTSTAMP:20260419T121637Z
DTSTART:20251125T190000Z
DTEND:20251125T223000Z
LOCATION:Museo San Juan de La Cruz Calle Carmen\,  13 de Úbeda
SUMMARY:Ana de Jesús\,  amiga y difusora de san Juan de la Cruz
DESCRIPTION:Martes 25 de noviembre a las 20:00 horas Fray Francisco Víctor
  López Fernández\,  carmelita descalzo\,  actualmente prior de nuestro Co
 nvento de San Juan de la Cruz de Úbeda\,  volverá a traer a nuestras “
 nsulas extrañas” a Ana de Jesús\,  “capitana de las prioras” de Sa
 nta Teresa y una de las[..]\nhttps://www.sanjuandelacruzubeda.com/events/an
 a-de-jesus-amiga-y-difusora-de-san-juan-de-la-cruz/
URL:https://www.sanjuandelacruzubeda.com/events/ana-de-jesus-amiga-y-difusora-de-san-juan-de-la-cruz/
END:VEVENT
END:VCALENDAR