BEGIN:VCALENDAR
VERSION:2.0
PRODID:-//eventon.com NONSGML v1.0//EN
CALSCALE:GREGORIAN
METHOD:PUBLISH
BEGIN:VEVENT
UID:69e4c84330cb1
DTSTAMP:20260419T121915Z
DTSTART:20250923T183000Z
DTEND:20250923T183000Z
LOCATION:Museo San Juan de La Cruz Calle Carmen\,  13 de Úbeda
SUMMARY:La tua figura en una Long Dark Night
DESCRIPTION:Martes 23 de septiembre de 2025\,  a las 20:30 horas Andrea Pez
 zini\,  gestor de la empresa de servicios turísticos y culturales Artifici
 s y de nuestro Museo\,  nos compartirá buena parte de los muchos\,  hermos
 os y sorprendentes testimonios que ha ido recogiendo en estos años acerca 
 de San Juan de la Cruz[..]\nhttps://www.sanjuandelacruzubeda.com/events/la
 -tua-figura-en-una-long-dark-night/
URL:https://www.sanjuandelacruzubeda.com/events/la-tua-figura-en-una-long-dark-night/
END:VEVENT
END:VCALENDAR