BEGIN:VCALENDAR
VERSION:2.0
PRODID:-//eventon.com NONSGML v1.0//EN
CALSCALE:GREGORIAN
METHOD:PUBLISH
BEGIN:VEVENT
UID:69e4c7d4d1d8a
DTSTAMP:20260419T121724Z
DTSTART:20250624T183000Z
DTEND:20250624T213000Z
LOCATION:Museo San Juan de La Cruz Calle Carmen\,  13 de Úbeda
SUMMARY:La Noche oscura de Carlos Saura
DESCRIPTION:Uno de los pocos acercamientos cinematográficos a San Juan de 
 la Cruz es el que hizo Carlos Saura con su película «La noche oscura». S
 abemos que para él fue un proyecto querido y amado. Pero ¿qué esconde su
  acercamiento? ¿Cuáles son las claves de su propuesta?&#8230; Para ahonda
 r en todo[..]\nhttps://www.sanjuandelacruzubeda.com/events/la-noche-oscura-
 de-carlos-saura/
URL:https://www.sanjuandelacruzubeda.com/events/la-noche-oscura-de-carlos-saura/
END:VEVENT
END:VCALENDAR