BEGIN:VCALENDAR
VERSION:2.0
PRODID:-//eventon.com NONSGML v1.0//EN
CALSCALE:GREGORIAN
METHOD:PUBLISH
BEGIN:VEVENT
UID:69e4c8594e19b
DTSTAMP:20260419T121937Z
DTSTART:20250507T170000Z
DTEND:20250507T213000Z
LOCATION:Carmelitas Descalzas Calle Montiel 5\,  Úbeda (Jaén)
SUMMARY:Los bienes del Monasterio de Carmelitas Descalzas de Úbeda
DESCRIPTION:Margarita Sánchez Latorre tiene la doble cualificación de his
 toriadora del arte y miembro de la Dirección General de Bienes Culturales 
 y Museos\,  lo cual convierte en todo un lujo la posibilidad que tendremos 
 de visitar con ella el Museo de las Carmelitas Descalzas de Úbeda y\,  a c
 ontinuación\,  ahondar en[..]\nhttps://www.sanjuandelacruzubeda.com/events
 /los-bienes-del-monasterio-de-carmelitas-descalzas-de-ubeda/
URL:https://www.sanjuandelacruzubeda.com/events/los-bienes-del-monasterio-de-carmelitas-descalzas-de-ubeda/
END:VEVENT
END:VCALENDAR