BEGIN:VCALENDAR
VERSION:2.0
PRODID:-//eventon.com NONSGML v1.0//EN
CALSCALE:GREGORIAN
METHOD:PUBLISH
BEGIN:VEVENT
UID:69e4c8741c685
DTSTAMP:20260419T122004Z
DTSTART:20250325T183000Z
DTEND:20250325T183000Z
LOCATION:Museo San Juan de La Cruz Calle Carmen\,  13 de Úbeda
SUMMARY:Diálogos entre pensadores y artistas a 4. Perspectivas actuales en torno a San Juan de la Cruz.
DESCRIPTION:La propuesta y originalidad de este evento\,  se la debemos sob
 re todo a José Márquez\,  artista plástico (con varias y hermosas obras 
 en nuestro Museo)\,  actor y autor teatral&#8230;\,  entrañable amigo de n
 uestra comunidad de Carmelitas Descalzos e infatigable colaborador en la or
 namentación y realización de cada acto de este[..]\nhttps://www.sanjuande
 lacruzubeda.com/events/dialogos-entre-pensadores-y-artistas-a-4-perspectiva
 s-actuales-en-torno-a-san-juan-de-la-cruz/
URL:https://www.sanjuandelacruzubeda.com/events/dialogos-entre-pensadores-y-artistas-a-4-perspectivas-actuales-en-torno-a-san-juan-de-la-cruz/
END:VEVENT
END:VCALENDAR