BEGIN:VCALENDAR
VERSION:2.0
PRODID:-//eventon.com NONSGML v1.0//EN
CALSCALE:GREGORIAN
METHOD:PUBLISH
BEGIN:VEVENT
UID:69e4c7d5a5c39
DTSTAMP:20260419T121725Z
DTSTART:20250429T180000Z
DTEND:20250429T180000Z
LOCATION:Museo San Juan de La Cruz Calle Carmen\,  13 de Úbeda
SUMMARY:The Sacred Bride. Omkar Bhatkar.
DESCRIPTION:El Dr. Omkar Bhatkar es un poeta\,  dramaturgo y pedagogo de In
 dia\,  con una notable trayectoria en su país y una gran sensibilidad tant
 o artística como espiritual; en particular\,  respecto a la poesía y la e
 xperiencia de santa Teresa y de san Juan de la Cruz\,  en base a cuyos[..]\
 nhttps://www.sanjuandelacruzubeda.com/events/the-sacred-bride-omkar-bhatkar
 /
URL:https://www.sanjuandelacruzubeda.com/events/the-sacred-bride-omkar-bhatkar/
END:VEVENT
END:VCALENDAR