BEGIN:VCALENDAR
VERSION:2.0
PRODID:-//eventon.com NONSGML v1.0//EN
CALSCALE:GREGORIAN
METHOD:PUBLISH
BEGIN:VEVENT
UID:69e4c8094ae0d
DTSTAMP:20260419T121817Z
DTSTART:20250224T183000Z
DTEND:20250224T183000Z
LOCATION:Museo San Juan de La Cruz Calle Carmen\,  13 de Úbeda
SUMMARY:Teresa Peña. Su pintura mística como poesía trascendente.
DESCRIPTION:FECHA Lunes 24 de febrero de 2025 Nuestra Provincia Ibérica de
  los Carmelitas Descalzos ha heredado cuatro cuadros de Teresa Peña (1935-
 2002)\,  pintora tan interesante como\,  en cierto modo\,  desconocida. mon
 asteriodesantaclara.com/pintura-religiosa-biografia-teresa-pena.php Teresa 
 Peña &#8211; Galería de Arte Juan Manuel Lumbreras Además\,  como en la 
 última edición de la Semana Sanjuanista[..]\nhttps://www.sanjuandelacruzu
 beda.com/events/teresa-pena-su-pintura-mistica-como-poesia-trascendente/
URL:https://www.sanjuandelacruzubeda.com/events/teresa-pena-su-pintura-mistica-como-poesia-trascendente/
END:VEVENT
END:VCALENDAR