BEGIN:VCALENDAR
VERSION:2.0
PRODID:-//eventon.com NONSGML v1.0//EN
CALSCALE:GREGORIAN
METHOD:PUBLISH
BEGIN:VEVENT
UID:69e4c7e9ccd17
DTSTAMP:20260419T121745Z
DTSTART:20250121T183000Z
DTEND:20250121T183000Z
LOCATION:Museo San Juan de La Cruz Calle Carmen\,  13 de Úbeda
SUMMARY:Poemas de San Juan de la Cruz\,  una visión flamenca. Los Girasoles.
DESCRIPTION:FECHA Martes 21 de enero de 2025 Hace unos 20 años que nuestro
  paisano y excelente guitarrista Juan Sánchez Orcera se sintió empujado\,
   desde la fe y su arte\,  a versionar los poemas de san Juan de la Cruz co
 n distintos palos flamencos: fandango\,  bulerías&#8230; De hecho\,  ya po
 r entonces[..]\nhttps://www.sanjuandelacruzubeda.com/events/poemas-de-san-j
 uan-de-la-cruz-una-vision-flamenca-los-girasoles/
URL:https://www.sanjuandelacruzubeda.com/events/poemas-de-san-juan-de-la-cruz-una-vision-flamenca-los-girasoles/
END:VEVENT
END:VCALENDAR