BEGIN:VCALENDAR
VERSION:2.0
PRODID:-//eventon.com NONSGML v1.0//EN
CALSCALE:GREGORIAN
METHOD:PUBLISH
BEGIN:VEVENT
UID:69e4c83333fee
DTSTAMP:20260419T121859Z
DTSTART:20251213T220000Z
DTEND:20251213T220000Z
LOCATION:Museo San Juan de La Cruz Calle Carmen\,  13 de Úbeda
SUMMARY:A cantar maitines al cielo: evocación de la muerte de San Juan de la Cruz
DESCRIPTION:FECHA 13 de diciembre El día 28 de septiembre de 1591 llega fr
 ay Juan de la Cruz al casi recién fundado convento de Carmelitas Descalzos
  de Úbeda\,  según él mismo escribió\,  para “curar de unas calenturi
 llas”. Aquí permanecerá\,  en la más pobre celdilla\,  hasta el moment
 o de su muerte. Es[..]\nhttps://www.sanjuandelacruzubeda.com/events/a-canta
 r-maitines-al-cielo-2/
URL:https://www.sanjuandelacruzubeda.com/events/a-cantar-maitines-al-cielo-2/
END:VEVENT
END:VCALENDAR