BEGIN:VCALENDAR
VERSION:2.0
PRODID:-//eventon.com NONSGML v1.0//EN
CALSCALE:GREGORIAN
METHOD:PUBLISH
BEGIN:VEVENT
UID:69e4e24390530
DTSTAMP:20260419T141011Z
DTSTART:20241126T193000Z
DTEND:20241126T193000Z
LOCATION:Museo San Juan de La Cruz Calle Carmen\,  13 de Úbeda
SUMMARY:Ana de Jesús\,  la difusión del Carmelo en Europa
DESCRIPTION:Semanas después de la beatificación de Ana de Jesús y a poco
  más de un año de la llegada a nuestro Museo del Códice más valioso del
  «Cántico Espiritual» (obra predilecta de san Juan de la Cruz y que dedi
 có a esta hermana y amiga también predilecta) podremos conocerla mucho[..
 ]\nhttps://www.sanjuandelacruzubeda.com/events/ana-de-jesus-la-difusion-del
 -carmelo-en-europa/
URL:https://www.sanjuandelacruzubeda.com/events/ana-de-jesus-la-difusion-del-carmelo-en-europa/
END:VEVENT
END:VCALENDAR