BEGIN:VCALENDAR
VERSION:2.0
PRODID:-//eventon.com NONSGML v1.0//EN
CALSCALE:GREGORIAN
METHOD:PUBLISH
BEGIN:VEVENT
UID:69e4c898830be
DTSTAMP:20260419T122040Z
DTSTART:20240924T180000Z
DTEND:20240924T193000Z
LOCATION:Museo San Juan de La Cruz Calle Carmen\,  13 de Úbeda
SUMMARY:San Juan de la Cruz de Úbeda al mundo
DESCRIPTION:Tras el paréntesis de julio y agosto\,  retomamos estas noches
  en el Museo dialogando sobre San Juan de la Cruz\,  su relación con nuest
 ra ciudad\,  su legado y su proyección al mundo. A propuesta de la Asociac
 ión «Úbeda por la Cultura»\,  el P. Antonio Ángel hará una introducci
 ón al tema[..]\nhttps://www.sanjuandelacruzubeda.com/events/san-juan-de-la
 -cruz-de-ubeda-al-mundo/
URL:https://www.sanjuandelacruzubeda.com/events/san-juan-de-la-cruz-de-ubeda-al-mundo/
END:VEVENT
END:VCALENDAR