BEGIN:VCALENDAR
VERSION:2.0
PRODID:-//eventon.com NONSGML v1.0//EN
CALSCALE:GREGORIAN
METHOD:PUBLISH
BEGIN:VEVENT
UID:69e4c7ea88af0
DTSTAMP:20260419T121746Z
DTSTART:20240517T180000Z
DTEND:20240517T180000Z
LOCATION:Museo San Juan de La Cruz Calle Carmen\,  13 de Úbeda
SUMMARY:Charla con el pintor Paco Fernández Ruíz
DESCRIPTION:El joven pintor de Cehegín (Murcia) Paco Fernández Ruiz\,  en
  diálogo con el P. Antonio Ángel\,  presentará su cuadro «La trascende
 ncia de San Juan de la Cruz»\,  premiado hace unos meses en el I Concurso
  de Pintura Mística de Caravaca de la Cruz y recientemente adquirido por l
 a Orden para incorporarlo a[..]\nhttps://www.sanjuandelacruzubeda.com/event
 s/charla-con-el-pintor-paco-fernandez-ruiz/
URL:https://www.sanjuandelacruzubeda.com/events/charla-con-el-pintor-paco-fernandez-ruiz/
END:VEVENT
END:VCALENDAR