BEGIN:VCALENDAR
VERSION:2.0
PRODID:-//eventon.com NONSGML v1.0//EN
CALSCALE:GREGORIAN
METHOD:PUBLISH
BEGIN:VEVENT
UID:69e4c8e0abaa4
DTSTAMP:20260419T122152Z
DTSTART:20240623T173000Z
DTEND:20240623T173000Z
LOCATION:Museo San Juan de La Cruz Calle Carmen\,  13 de Úbeda
SUMMARY:Entre flores y rosales Poesía y música en el jardín
DESCRIPTION:Actividad paralela al proyecto creativo San Juan de la Cruz: El
  poder del amor. Un recorrido en movimiento por distintos puntos del emblem
 ático jardín de la Casa de Espiritualidad San Juan de la Cruz combinando 
 música y poesía inspirada en las flores y el jardín y una muestra final 
 conjunta[..]\nhttps://www.sanjuandelacruzubeda.com/events/entre-flores-y-ro
 sales-poesia-y-musica-en-el-jardin/
URL:https://www.sanjuandelacruzubeda.com/events/entre-flores-y-rosales-poesia-y-musica-en-el-jardin/
END:VEVENT
END:VCALENDAR