BEGIN:VCALENDAR
VERSION:2.0
PRODID:-//eventon.com NONSGML v1.0//EN
CALSCALE:GREGORIAN
METHOD:PUBLISH
BEGIN:VEVENT
UID:69e4c873bf307
DTSTAMP:20260419T122003Z
DTSTART:20240416T183000Z
DTEND:20240416T183000Z
LOCATION:Museo San Juan de La Cruz Calle Carmen\,  13 de Úbeda
SUMMARY:Charlamos de Poesía mística con José Iniesta
DESCRIPTION:Martes 16 de Abril de 2024 a las 20:30h Museo San Juan de la Cr
 uz Calle Carmen\,  13 de Úbeda (Jaén) Entrada libre hasta completar aforo
  Charlamos de Poesía mística con José Iniesta acompañará al autor Luis
  Escavy &nbsp;\nhttps://www.sanjuandelacruzubeda.com/events/charlamos-de-po
 esia-mistica-con-jose-iniesta/
URL:https://www.sanjuandelacruzubeda.com/events/charlamos-de-poesia-mistica-con-jose-iniesta/
END:VEVENT
END:VCALENDAR