BEGIN:VCALENDAR
VERSION:2.0
PRODID:-//eventon.com NONSGML v1.0//EN
CALSCALE:GREGORIAN
METHOD:PUBLISH
BEGIN:VEVENT
UID:69e4c8b8802da
DTSTAMP:20260419T122112Z
DTSTART:20240322T194500Z
DTEND:20240322T194500Z
LOCATION:Museo San Juan de La Cruz Calle Carmen\,  13 de Úbeda
SUMMARY:Performance La visita inesperada
DESCRIPTION:Viernes 22 de Marzo de 2024 a las 20:45h Museo San Juan de la C
 ruz Calle Carmen\,  13 de Úbeda (Jaén) Entrada libre hasta completar afor
 o Performance La visita inesperada por la actriz Carmen Rey y guión de Jos
 é Márquez. &nbsp;\nhttps://www.sanjuandelacruzubeda.com/events/performanc
 e-la-visita-inesperada/
URL:https://www.sanjuandelacruzubeda.com/events/performance-la-visita-inesperada/
END:VEVENT
END:VCALENDAR