BEGIN:VCALENDAR
VERSION:2.0
PRODID:-//eventon.com NONSGML v1.0//EN
CALSCALE:GREGORIAN
METHOD:PUBLISH
BEGIN:VEVENT
UID:69e4c8ab6c969
DTSTAMP:20260419T122059Z
DTSTART:20240220T183000Z
DTEND:20240220T183000Z
LOCATION:Museo San Juan de La Cruz Calle Carmen\,  13 de Úbeda
SUMMARY:Presentación del libro "La escalera quebrada"
DESCRIPTION:Martes 20 de Febrero de 2024 a las 19:30h en el mismo Museo sit
 uado en la Calle Carmen\,  13 de Úbeda (Jaén) Presentación del libro “
 La escalera quebrada. Diario Inédito de los últimos días de san Juan de 
 la Cruz» (editorial Monte Carmelo)\,  a cargo de su autor\,  Pedro Villare
 jo\, [..]\nhttps://www.sanjuandelacruzubeda.com/events/presentacion-del-lib
 ro-la-escalera-quebrada/
URL:https://www.sanjuandelacruzubeda.com/events/presentacion-del-libro-la-escalera-quebrada/
END:VEVENT
END:VCALENDAR