BEGIN:VCALENDAR
VERSION:2.0
PRODID:-//eventon.com NONSGML v1.0//EN
CALSCALE:GREGORIAN
METHOD:PUBLISH
BEGIN:VEVENT
UID:69e4c7a4785cd
DTSTAMP:20260419T121636Z
DTSTART:20240123T183000Z
DTEND:20240123T183000Z
LOCATION:Museo San Juan de La Cruz Calle Carmen\,  13 de Úbeda
SUMMARY:3x3 Charla con los hijos de Antonio Espadas\,  Marcelo Góngora y Paco Tito
DESCRIPTION:Martes 23 de Enero de 2024 a las 19:30h en el mismo Museo situa
 do en la Calle Carmen\,  13 de Úbeda (Jaén) Encuentro/charla con los hijo
 s de Antonio Espadas\,  Marcelo Góngora y Paco Tito. Tres artistas locales
 \,  los cuales\,  cada uno con sus técnicas\,  estilos y sensibilidades ha
 n dejado obras[..]\nhttps://www.sanjuandelacruzubeda.com/events/3x3-encuent
 ro-charla-con-los-hijos-de-antonio-espadas-marcelo-gongora-y-paco-tito/
URL:https://www.sanjuandelacruzubeda.com/events/3x3-encuentro-charla-con-los-hijos-de-antonio-espadas-marcelo-gongora-y-paco-tito/
END:VEVENT
END:VCALENDAR