BEGIN:VCALENDAR
VERSION:2.0
PRODID:-//eventon.com NONSGML v1.0//EN
CALSCALE:GREGORIAN
METHOD:PUBLISH
BEGIN:VEVENT
UID:69e4c8e10bc5d
DTSTAMP:20260419T122153Z
DTSTART:20251018T180000Z
DTEND:20251025T180000Z
LOCATION:Hospital de Santiago Hospital de Santiago 23400 Úbeda (Jaén)
SUMMARY:SEMANA SANJUANISTA 2025
DESCRIPTION:Se inaugurará el 18 de octubre y se desarrollará del 20 al 25
  En el siguiente enlace se puede consultar el programa completo: 48ª Seman
 a Sanjuanista\nhttps://www.sanjuandelacruzubeda.com/events/semana-sanjuanis
 ta-2025/
URL:https://www.sanjuandelacruzubeda.com/events/semana-sanjuanista-2025/
END:VEVENT
END:VCALENDAR