BEGIN:VCALENDAR
VERSION:2.0
PRODID:-//eventon.com NONSGML v1.0//EN
CALSCALE:GREGORIAN
METHOD:PUBLISH
BEGIN:VEVENT
UID:69e4c80a5fd4e
DTSTAMP:20260419T121818Z
DTSTART:19700101
DTEND:19700102
LOCATION:Casa de Espiritualidad San Juan de la Cruz C/ Carmen 13; 23400 Úbeda (Jaén)
SUMMARY:EJERCICIOS PERSONALIZADOS Fechas a convenir
DESCRIPTION:Además de las actividades programadas\,  cualquiera persona o 
 grupo que desee hacer ejercicios espirituales\,  en este marco privilegiado
  que es el convento donde murió san Juan de la Cruz\,  tiene a dos religio
 sos a su disposición\,  y solo precisará ponerse de acuerdo con alguno de
  ellos (abajo se presentan brevemente).[..]\nhttps://www.sanjuandelacruzube
 da.com/events/ejercicios-personalizados-fechas-a-convenir/
URL:https://www.sanjuandelacruzubeda.com/events/ejercicios-personalizados-fechas-a-convenir/
END:VEVENT
END:VCALENDAR