BEGIN:VCALENDAR
VERSION:2.0
PRODID:-//eventon.com NONSGML v1.0//EN
CALSCALE:GREGORIAN
METHOD:PUBLISH
BEGIN:VEVENT
UID:69e4e3779251d
DTSTAMP:20260419T141519Z
DTSTART:20260416T180000Z
DTEND:20260416T200000Z
LOCATION:
SUMMARY:Nueva proyección de "Un viaje místico"
DESCRIPTION:El ubetense Lucas Hidalgo ha querido homenajear a San Juan de l
 a Cruz con un magnífico largometraje documental\,  centrado sobre todo en 
 el viaje del santo a Úbeda; sus vivencias durante los dos meses y medio qu
 e permaneció en nuestro convento en esta ciudad; y lógicamente su enferme
 dad y muerte.[..]\nhttps://www.sanjuandelacruzubeda.com/events/proyeccion-d
 el-documental-un-viaje-mistico/
URL:https://www.sanjuandelacruzubeda.com/events/proyeccion-del-documental-un-viaje-mistico/
END:VEVENT
END:VCALENDAR