BEGIN:VCALENDAR
VERSION:2.0
PRODID:-//eventon.com NONSGML v1.0//EN
CALSCALE:GREGORIAN
METHOD:PUBLISH
BEGIN:VEVENT
UID:69e4e4be21a55
DTSTAMP:20260419T142046Z
DTSTART:20260511T080000Z
DTEND:20260511T113000Z
LOCATION:Casa de Espiritualidad San Juan de la Cruz C/ Carmen 13; 23400 Úbeda (Jaén)
SUMMARY:Jornada del Clero
DESCRIPTION:El lunes día 11 de mayo\,  fiesta de S. Juan de Ávila\,  patr
 ón del clero español\,  se celebra como cada año la Jornada del Clero: e
 l encuentro del presbiterio diocesano en el cual\,  entre otras cosas desta
 cables\,  se homenajea a los sacerdotes por sus 25º\,  50º y 70º anivers
 arios de[..]\nhttps://www.sanjuandelacruzubeda.com/events/jornada-del-clero
 /
URL:https://www.sanjuandelacruzubeda.com/events/jornada-del-clero/
END:VEVENT
END:VCALENDAR