BEGIN:VCALENDAR
VERSION:2.0
PRODID:-//eventon.com NONSGML v1.0//EN
CALSCALE:GREGORIAN
METHOD:PUBLISH
BEGIN:VEVENT
UID:69e4e10f98f5b
DTSTAMP:20260419T140503Z
DTSTART:20260525T090000Z
DTEND:20260525T113000Z
LOCATION:Museo San Juan de La Cruz Calle Carmen\,  13 de Úbeda
SUMMARY:Jornada de la Vida Contemplativa
DESCRIPTION:El lunes día 25 de mayo a las 11 de la mañana un grupo de una
 s 60 religiosas de vida contemplativa de Jaén celebrarán su encuentro y j
 ornada diocesana anual peregrinando al Oratorio de San Juan de la Cruz con 
 motivo de su Jubileo y con intención de ganarlo. Para[..]\nhttps://www.san
 juandelacruzubeda.com/events/jornada-de-la-vida-contemplativa/
URL:https://www.sanjuandelacruzubeda.com/events/jornada-de-la-vida-contemplativa/
END:VEVENT
END:VCALENDAR