BEGIN:VCALENDAR
VERSION:2.0
PRODID:-//eventon.com NONSGML v1.0//EN
CALSCALE:GREGORIAN
METHOD:PUBLISH
BEGIN:VEVENT
UID:69e4e3ea78773
DTSTAMP:20260419T141714Z
DTSTART:20260603T180000Z
DTEND:20260603T190000Z
LOCATION:Hospital de Santiago Hospital de Santiago 23400 Úbeda (Jaén)
SUMMARY:Exposición Escuela de Arte de Úbeda
DESCRIPTION:La “Escuela de Arte Casa de las Torres” ha tenido como tema
  vertebrador de su formación y trabajos durante este curso a San Juan de l
 a Cruz\,  con motivo del Año Jubilar en su honor; tanto por co-patrón de 
 la ciudad como\,  sobre todo\,  por ser el santo un artista[..]\nhttps://ww
 w.sanjuandelacruzubeda.com/events/exposicion-escuela-de-arte-de-ubeda/
URL:https://www.sanjuandelacruzubeda.com/events/exposicion-escuela-de-arte-de-ubeda/
END:VEVENT
END:VCALENDAR