BEGIN:VCALENDAR
VERSION:2.0
PRODID:-//eventon.com NONSGML v1.0//EN
CALSCALE:GREGORIAN
METHOD:PUBLISH
BEGIN:VEVENT
UID:69e4e47bdf261
DTSTAMP:20260419T141939Z
DTSTART:20260601T180000Z
DTEND:20260601T190000Z
LOCATION:
SUMMARY:En Baeza exposición “El pecho del amor muy lastimado”
DESCRIPTION:“El pecho del amor muy lastimado: variaciones del dibujo del 
 Crucificado de San Juan de la Cruz” es una exposición compuesta por obra
 s de los siguientes artistas: los pintores Santiago Ydáñez\,  Paco Monta
 és\,  Jesús Zurita\,  María Ángeles Díaz Barbado\,  Pepa Salas Vilar\
 ,  Piedad Lozano\,  Pedro Moreno Arias “Peris”\,  Bernardino Sánchez[.
 .]\nhttps://www.sanjuandelacruzubeda.com/events/en-baeza-exposicion-el-pech
 o-del-amor-muy-lastimado/
URL:https://www.sanjuandelacruzubeda.com/events/en-baeza-exposicion-el-pecho-del-amor-muy-lastimado/
END:VEVENT
END:VCALENDAR