BEGIN:VCALENDAR
VERSION:2.0
PRODID:-//eventon.com NONSGML v1.0//EN
CALSCALE:GREGORIAN
METHOD:PUBLISH
BEGIN:VEVENT
UID:69e4e16a0fcb2
DTSTAMP:20260419T140634Z
DTSTART:20260521T183000Z
DTEND:20260521T193000Z
LOCATION:Museo San Juan de La Cruz Calle Carmen\,  13 de Úbeda
SUMMARY:Concierto “La noche sosegada”
DESCRIPTION:El Festival Internacional de Música y Danza de Úbeda nos trae
  a la pianista y musicóloga María del Mar Poyatos que\,  mediante este co
 ncierto y recital\,  propone una experiencia íntima y espiritual donde la 
 palabra se convierte en melodía. María del Mar Poyatos nos invita a recor
 rer la obra de[..]\nhttps://www.sanjuandelacruzubeda.com/events/concierto-l
 a-noche-sosegada/
URL:https://www.sanjuandelacruzubeda.com/events/concierto-la-noche-sosegada/
END:VEVENT
END:VCALENDAR