BEGIN:VCALENDAR
VERSION:2.0
PRODID:-//eventon.com NONSGML v1.0//EN
CALSCALE:GREGORIAN
METHOD:PUBLISH
BEGIN:VEVENT
UID:69e4df519c206
DTSTAMP:20260419T135737Z
DTSTART:20260510T100000Z
DTEND:20260510T110000Z
LOCATION:Museo San Juan de La Cruz Calle Carmen\,  13 de Úbeda
SUMMARY:Concierto Orfeón "Santo Reino"
DESCRIPTION:El muy reputado Orfeón “Santo Reino” (Jaén) ha querido re
 galarnos un concierto homenaje a San Juan de la Cruz con motivo de este Añ
 o Jubilar en su honor y\,  por supuesto\,  la comunidad de Carmelitas Desca
 lzos hemos acogido con gusto y gratitud su oferta. Hemos organizado ese con
 cierto contando además[..]\nhttps://www.sanjuandelacruzubeda.com/events/co
 ncierto-orfeon-santo-reino/
URL:https://www.sanjuandelacruzubeda.com/events/concierto-orfeon-santo-reino/
END:VEVENT
END:VCALENDAR