BEGIN:VCALENDAR
VERSION:2.0
PRODID:-//eventon.com NONSGML v1.0//EN
CALSCALE:GREGORIAN
METHOD:PUBLISH
BEGIN:VEVENT
UID:69e4c842116b5
DTSTAMP:20260419T121914Z
DTSTART:20260212T183000Z
DTEND:20260212T193000Z
LOCATION:Iglesia de &quot;La Concepción&quot;\,  Carmelitas Descalzos Calle Concepción 1; 23440 Baeza (Jaén)
SUMMARY:Presentación cuadro del Nazareno y su retablo hornacina
DESCRIPTION:Jueves 12 de febrero\,  a las 19:30 horas en nuestra iglesia de
  “La Concepción” de Baeza La Santa Misa esa tarde se celebrará una ho
 ra antes: a las 18:30 Presentación de un magnífico cuadro del Nazareno y 
 de su retablo hornacina\,  obras del siglo XVII\,  restauradas con la colab
 oración de[..]\nhttps://www.sanjuandelacruzubeda.com/events/presentacion-c
 uadro-del-nazareno-y-su-retablo-hornacina/
URL:https://www.sanjuandelacruzubeda.com/events/presentacion-cuadro-del-nazareno-y-su-retablo-hornacina/
END:VEVENT
END:VCALENDAR