BEGIN:VCALENDAR
VERSION:2.0
PRODID:-//eventon.com NONSGML v1.0//EN
CALSCALE:GREGORIAN
METHOD:PUBLISH
BEGIN:VEVENT
UID:69e4e3ec9924b
DTSTAMP:20260419T141716Z
DTSTART:20260507T190000Z
DTEND:20260507T203000Z
LOCATION:Museo San Juan de La Cruz Calle Carmen\,  13 de Úbeda
SUMMARY:Flamenco y San Juan de la Cruz
DESCRIPTION:Dentro de la programación del festival “Flamencos y Mestizos
 ”\,  dirigido por Paco Ortega\,  la filósofa y escritora Nuria Barros im
 partirá la conferencia San Juan de la Cruz en el Flamenco\,  acompañada p
 or el guitarrista José Romero ‘Torro’ y la cantaora Belén Vega\,  par
 a ir entrelazando la poesía del santo y[..]\nhttps://www.sanjuandelacruzub
 eda.com/events/flamenco-y-san-juan-de-la-cruz/
URL:https://www.sanjuandelacruzubeda.com/events/flamenco-y-san-juan-de-la-cruz/
END:VEVENT
END:VCALENDAR