BEGIN:VCALENDAR
VERSION:2.0
PRODID:-//eventon.com NONSGML v1.0//EN
CALSCALE:GREGORIAN
METHOD:PUBLISH
BEGIN:VEVENT
UID:69e4e436d703b
DTSTAMP:20260419T141830Z
DTSTART:20260422T180000Z
DTEND:20260422T190000Z
LOCATION:Museo San Juan de La Cruz Calle Carmen\,  13 de Úbeda
SUMMARY:Exposición "Poemas pintados: nuestros místicos en el arte Gond de la India"
DESCRIPTION:Un año después de su primera visita a España y de su actuaci
 ón en nuestras «ínsulas extrañas»\,  nos regala de nuevo una sorprende
 nte propuesta el Dr. Omkar Bhatkar\,  poeta\,  dramaturgo y pedagogo de Ind
 ia\,  con una notable trayectoria en su país y una gran sensibilidad tanto
  artística como espiritual. En[..]\nhttps://www.sanjuandelacruzubeda.com/e
 vents/exposicion-poemas-pintados-nuestros-misticos-en-el-arte-gond-de-la-in
 dia/
URL:https://www.sanjuandelacruzubeda.com/events/exposicion-poemas-pintados-nuestros-misticos-en-el-arte-gond-de-la-india/
END:VEVENT
END:VCALENDAR