BEGIN:VCALENDAR
VERSION:2.0
PRODID:-//eventon.com NONSGML v1.0//EN
CALSCALE:GREGORIAN
METHOD:PUBLISH
BEGIN:VEVENT
UID:69e4c8b7b1fa0
DTSTAMP:20260419T122111Z
DTSTART:20260224T183000Z
DTEND:20260224T193000Z
LOCATION:Museo San Juan de La Cruz Calle Carmen\,  13 de Úbeda
SUMMARY:La influencia de San Juan de la Cruz en la extensión iconográfica del Nazareno en Andalucía
DESCRIPTION:Martes 24 de febrero a las 19:30 horas José Miguel Gámez Sala
 s\,  doctor en Historia del Arte (Universidad de Jaén) y en la actualidad 
 además Concejal de Patrimonio Mundial\,  Universidad e Innovación del Ayu
 ntamiento de Úbeda\,  desarrollará con su habitual erudición este tema t
 an importante en la espiritualidad y la[..]\nhttps://www.sanjuandelacruzube
 da.com/events/la-iconografia-acerca-del-dialogo-de-san-juan-de-la-cruz-con-
 el-nazareno/
URL:https://www.sanjuandelacruzubeda.com/events/la-iconografia-acerca-del-dialogo-de-san-juan-de-la-cruz-con-el-nazareno/
END:VEVENT
END:VCALENDAR