BEGIN:VCALENDAR
VERSION:2.0
PRODID:-//eventon.com NONSGML v1.0//EN
CALSCALE:GREGORIAN
METHOD:PUBLISH
BEGIN:VEVENT
UID:69e4c8583d09b
DTSTAMP:20260419T121936Z
DTSTART:20260213T090000Z
DTEND:20260213T100000Z
LOCATION:Museo San Juan de La Cruz Calle Carmen\,  13 de Úbeda
SUMMARY:Úbeda Ciudad Amiga de la Red Huellas de Teresa
DESCRIPTION:Viernes 13 de febrero a las 10 de la mañana en el Oratorio de 
 San Juan de la Cruz Acto inicialmente previsto para el jueves 5 de febrero 
 a las 19 horas\,  pero pospuesto por el temporal de lluvia y viento Acto de
  concesión a Úbeda del título de Ciudad[..]\nhttps://www.sanjuandelacruz
 ubeda.com/events/ubeda-ciudad-amiga-de-la-red-huellas-de-teresa/
URL:https://www.sanjuandelacruzubeda.com/events/ubeda-ciudad-amiga-de-la-red-huellas-de-teresa/
END:VEVENT
END:VCALENDAR